BEGIN:VCALENDAR
VERSION:2.0
PRODID:-//eventon.com NONSGML v1.0//EN
CALSCALE:GREGORIAN
METHOD:PUBLISH
BEGIN:VEVENT
UID:69e9bc097b2a6
DTSTAMP:20260423T062825Z
DTSTART:20260911T130000Z
DTEND:20260914T010000Z
LOCATION:Stoneman Lake
SUMMARY:Jerry Garcia Disc Golf Festival in the Pines
DESCRIPTION:\nhttps://flagstaffdiscgolf.org/events/jerry-garcia-disc-golf-f
 estival-in-the-pines-2/
URL:https://flagstaffdiscgolf.org/events/jerry-garcia-disc-golf-festival-in-the-pines-2/
END:VEVENT
END:VCALENDAR