BEGIN:VCALENDAR
VERSION:2.0
PRODID:-//eventon.com NONSGML v1.0//EN
CALSCALE:GREGORIAN
METHOD:PUBLISH
BEGIN:VEVENT
UID:69e9bba5b6163
DTSTAMP:20260423T062645Z
DTSTART:20261003T150000Z
DTEND:20261004T010000Z
LOCATION:Fort Tuthill DGC 328 Garrison Rd\,  Flagstaff\,  AZ 86005
SUMMARY:The Breeze 2026
DESCRIPTION:About this tournament $1\, 000 added cash $250 added merchandis
 e &nbsp;2 rounds of play 2 rounds at Fort Tuthill &#8211; PDGA C Tier &#821
 1; $1000+ added cash for PRO &#8211; sick payouts and player packs for AM p
 layers &#8211; Artwork done by Daniel Sutton Kane &#8211; CAMBIUM FINANCIAL
  is back as[..]\nhttps://flagstaffdiscgolf.org/events/the-breeze-2026/
URL:https://flagstaffdiscgolf.org/events/the-breeze-2026/
END:VEVENT
END:VCALENDAR