BEGIN:VCALENDAR
VERSION:2.0
PRODID:-//eventon.com NONSGML v1.0//EN
CALSCALE:GREGORIAN
METHOD:PUBLISH
BEGIN:VEVENT
UID:69e9bb4997853
DTSTAMP:20260423T062513Z
DTSTART:20260822T150000Z
DTEND:20260823T010000Z
LOCATION:McPherson Park DGC 6977+J2 Flagstaff\,  Arizona
SUMMARY:6th Annual Queens in the Pines
DESCRIPTION:Queens in the Pines &#8211; 5th Annual Charity Tournament\nhttp
 s://flagstaffdiscgolf.org/events/6th-annual-queens-in-the-pines/
URL:https://flagstaffdiscgolf.org/events/6th-annual-queens-in-the-pines/
END:VEVENT
END:VCALENDAR