BEGIN:VCALENDAR
VERSION:2.0
PRODID:-//eventon.com NONSGML v1.0//EN
CALSCALE:GREGORIAN
METHOD:PUBLISH
BEGIN:VEVENT
UID:69e9bbb62e364
DTSTAMP:20260423T062702Z
DTSTART:20260717T143000Z
DTEND:20260720T000000Z
LOCATION:Little America DGC 2515 E Butler Ave\,  Flagstaff\,  AZ 86004
SUMMARY:Little America Open
DESCRIPTION:Block-Lite Presents the 3rd Annual Little America Open supporte
 d by Innova Disc Golf\nhttps://flagstaffdiscgolf.org/events/little-america-
 open/
URL:https://flagstaffdiscgolf.org/events/little-america-open/
END:VEVENT
END:VCALENDAR