BEGIN:VCALENDAR
VERSION:2.0
PRODID:-//eventon.com NONSGML v1.0//EN
CALSCALE:GREGORIAN
METHOD:PUBLISH
BEGIN:VEVENT
UID:69e9bbefae78e
DTSTAMP:20260423T062759Z
DTSTART:20260621T150000Z
DTEND:20260622T010000Z
LOCATION:Fort Tuthill DGC 328 Garrison Rd\,  Flagstaff\,  AZ 86005
SUMMARY:2026 NADGT Exclusive @ Fort Tuthill Supported by MVP
DESCRIPTION:About this tournament www.nadgt.com &nbsp;2 rounds of play PDGA
  Sanctioned B-Tier All players who register at least two weeks before this 
 event will be entered into a draw to have their entry fee fully refunded! M
 ake sure to sign up today!(Must be at least 25 players registered in this e
 vent[..]\nhttps://flagstaffdiscgolf.org/events/2026-nadgt-exclusive-fort-tu
 thill-supported-by-mvp/
URL:https://flagstaffdiscgolf.org/events/2026-nadgt-exclusive-fort-tuthill-supported-by-mvp/
END:VEVENT
END:VCALENDAR