BEGIN:VCALENDAR
VERSION:2.0
PRODID:-//eventon.com NONSGML v1.0//EN
CALSCALE:GREGORIAN
METHOD:PUBLISH
BEGIN:VEVENT
UID:69e9bb5005afe
DTSTAMP:20260423T062520Z
DTSTART:20260620T150000Z
DTEND:20260621T010000Z
LOCATION:McPherson Park DGC 6977+J2 Flagstaff\,  Arizona
SUMMARY:2026 NADGT Exclusive @ McPherson Park Supported by Discraft
DESCRIPTION:www.nadgt.com &nbsp;2 rounds of play PDGA Sanctioned B-Tier All
  players who register at least two weeks before this event will be entered 
 into a draw to have their entry fee fully refunded! Make sure to sign up to
 day!(Must be at least 25 players registered in this event for the draw[..]\
 nhttps://flagstaffdiscgolf.org/events/2026-nadgt-exclusive-mcpherson-park-s
 upported-by-discraft/
URL:https://flagstaffdiscgolf.org/events/2026-nadgt-exclusive-mcpherson-park-supported-by-discraft/
END:VEVENT
END:VCALENDAR